Workbook

Sheet Settings
A1: Start date | B1: Friday, 15 December, 2023
A2: End date | B2: Tuesday, 30 April, 2024
A3: Country | B3: Slovenia
A4: State | B4: standard
A5: Weekend days | B5: Saturday, Sunday
A6: First day of the week | B6: Monday
C7: Schedules (morning) | E7: Schedules (afternoon)
A8: Work hours | B8: Monday | C8: 08:00 | D8: 12:00 | E8: 14:00 | F8: 18:00
B9: Tuesday | C9: 08:00 | D9: 12:00 | E9: 14:00 | F9: 18:00
B10: Wednesday | C10: 08:00 | D10: 12:00 | E10: 14:00 | F10: 18:00
B11: Thursday | C11: 08:00 | D11: 12:00 | E11: 14:00 | F11: 18:00
B12: Friday | C12: 08:00 | D12: 12:00 | E12: 14:00 | F12: 18:00
B13: Saturday | C13: 08:00 | D13: 12:00 | E13: 14:00 | F13: 18:00
B14: Sunday | C14: 08:00 | D14: 12:00 | E14: 14:00 | F14: 18:00

Sheet Days
A1: Date (DD/MM/YYYY) | C1: Day | D1: Working day | E1: Weekend day | F1: Public holiday | G1: Description | H1: Custom dates | K1: Numbering (working days) | L1: Work hours | M1: Schedules (morning) | O1: Schedules (afternoon) | S1: Teleworking / days | T1: Teleworking / hours
A2: Friday | B2: 15/12/2023 | C2: 1 | D2: 1 | E2: 0 | F2: 0 | K2: 1 | L2: =24*(N2-M2+P2-O2) -> 0 | M2: ='Settings'!C12 -> 08:00 | N2: ='Settings'!D12 -> 12:00 | O2: ='Settings'!E12 -> 14:00 | P2: ='Settings'!F12 -> 18:00 | S2: 0 | T2: 0
A3: Saturday | B3: 16/12/2023 | C3: 1 | D3: 0 | E3: 1 | F3: 0 | S3: 0 | T3: 0
A4: Sunday | B4: 17/12/2023 | C4: 1 | D4: 0 | E4: 1 | F4: 0 | S4: 0 | T4: 0
A5: Monday | B5: 18/12/2023 | C5: 1 | D5: 1 | E5: 0 | F5: 0 | K5: 2 | L5: =24*(N5-M5+P5-O5) -> 0 | M5: ='Settings'!C8 -> 08:00 | N5: ='Settings'!D8 -> 12:00 | O5: ='Settings'!E8 -> 14:00 | P5: ='Settings'!F8 -> 18:00 | S5: 0 | T5: 0
A6: Tuesday | B6: 19/12/2023 | C6: 1 | D6: 1 | E6: 0 | F6: 0 | K6: 3 | L6: =24*(N6-M6+P6-O6) -> 0 | M6: ='Settings'!C9 -> 08:00 | N6: ='Settings'!D9 -> 12:00 | O6: ='Settings'!E9 -> 14:00 | P6: ='Settings'!F9 -> 18:00 | S6: 0 | T6: 0
A7: Wednesday | B7: 20/12/2023 | C7: 1 | D7: 1 | E7: 0 | F7: 0 | K7: 4 | L7: =24*(N7-M7+P7-O7) -> 0 | M7: ='Settings'!C10 -> 08:00 | N7: ='Settings'!D10 -> 12:00 | O7: ='Settings'!E10 -> 14:00 | P7: ='Settings'!F10 -> 18:00 | S7: 0 | T7: 0
A8: Thursday | B8: 21/12/2023 | C8: 1 | D8: 1 | E8: 0 | F8: 0 | K8: 5 | L8: =24*(N8-M8+P8-O8) -> 0 | M8: ='Settings'!C11 -> 08:00 | N8: ='Settings'!D11 -> 12:00 | O8: ='Settings'!E11 -> 14:00 | P8: ='Settings'!F11 -> 18:00 | S8: 0 | T8: 0
A9: Friday | B9: 22/12/2023 | C9: 1 | D9: 1 | E9: 0 | F9: 0 | K9: 6 | L9: =24*(N9-M9+P9-O9) -> 0 | M9: ='Settings'!C12 -> 08:00 | N9: ='Settings'!D12 -> 12:00 | O9: ='Settings'!E12 -> 14:00 | P9: ='Settings'!F12 -> 18:00 | S9: 0 | T9: 0
A10: Saturday | B10: 23/12/2023 | C10: 1 | D10: 0 | E10: 1 | F10: 0 | S10: 0 | T10: 0
A11: Sunday | B11: 24/12/2023 | C11: 1 | D11: 0 | E11: 1 | F11: 0 | S11: 0 | T11: 0
A12: Monday | B12: 25/12/2023 | C12: 1 | D12: 0 | E12: 0 | F12: 1 | G12: Christmas Day | S12: 0 | T12: 0
A13: Tuesday | B13: 26/12/2023 | C13: 1 | D13: 0 | E13: 0 | F13: 1 | G13: Independence and Unity Day | S13: 0 | T13: 0
A14: Wednesday | B14: 27/12/2023 | C14: 1 | D14: 1 | E14: 0 | F14: 0 | K14: 7 | L14: =24*(N14-M14+P14-O14) -> 0 | M14: ='Settings'!C10 -> 08:00 | N14: ='Settings'!D10 -> 12:00 | O14: ='Settings'!E10 -> 14:00 | P14: ='Settings'!F10 -> 18:00 | S14: 0 | T14: 0
A15: Thursday | B15: 28/12/2023 | C15: 1 | D15: 1 | E15: 0 | F15: 0 | K15: 8 | L15: =24*(N15-M15+P15-O15) -> 0 | M15: ='Settings'!C11 -> 08:00 | N15: ='Settings'!D11 -> 12:00 | O15: ='Settings'!E11 -> 14:00 | P15: ='Settings'!F11 -> 18:00 | S15: 0 | T15: 0
A16: Friday | B16: 29/12/2023 | C16: 1 | D16: 1 | E16: 0 | F16: 0 | K16: 9 | L16: =24*(N16-M16+P16-O16) -> 0 | M16: ='Settings'!C12 -> 08:00 | N16: ='Settings'!D12 -> 12:00 | O16: ='Settings'!E12 -> 14:00 | P16: ='Settings'!F12 -> 18:00 | S16: 0 | T16: 0
A17: Saturday | B17: 30/12/2023 | C17: 1 | D17: 0 | E17: 1 | F17: 0 | S17: 0 | T17: 0
A18: Sunday | B18: 31/12/2023 | C18: 1 | D18: 0 | E18: 1 | F18: 0 | S18: 0 | T18: 0
A19: Monday | B19: 01/01/2024 | C19: 1 | D19: 0 | E19: 0 | F19: 1 | G19: New Year's Day | S19: 0 | T19: 0
A20: Tuesday | B20: 02/01/2024 | C20: 1 | D20: 0 | E20: 0 | F20: 1 | G20: New Year Holiday | S20: 0 | T20: 0
A21: Wednesday | B21: 03/01/2024 | C21: 1 | D21: 1 | E21: 0 | F21: 0 | K21: 10 | L21: =24*(N21-M21+P21-O21) -> 0 | M21: ='Settings'!C10 -> 08:00 | N21: ='Settings'!D10 -> 12:00 | O21: ='Settings'!E10 -> 14:00 | P21: ='Settings'!F10 -> 18:00 | S21: 0 | T21: 0
A22: Thursday | B22: 04/01/2024 | C22: 1 | D22: 1 | E22: 0 | F22: 0 | K22: 11 | L22: =24*(N22-M22+P22-O22) -> 0 | M22: ='Settings'!C11 -> 08:00 | N22: ='Settings'!D11 -> 12:00 | O22: ='Settings'!E11 -> 14:00 | P22: ='Settings'!F11 -> 18:00 | S22: 0 | T22: 0
A23: Friday | B23: 05/01/2024 | C23: 1 | D23: 1 | E23: 0 | F23: 0 | K23: 12 | L23: =24*(N23-M23+P23-O23) -> 0 | M23: ='Settings'!C12 -> 08:00 | N23: ='Settings'!D12 -> 12:00 | O23: ='Settings'!E12 -> 14:00 | P23: ='Settings'!F12 -> 18:00 | S23: 0 | T23: 0
A24: Saturday | B24: 06/01/2024 | C24: 1 | D24: 0 | E24: 1 | F24: 0 | S24: 0 | T24: 0
A25: Sunday | B25: 07/01/2024 | C25: 1 | D25: 0 | E25: 1 | F25: 0 | S25: 0 | T25: 0
A26: Monday | B26: 08/01/2024 | C26: 1 | D26: 1 | E26: 0 | F26: 0 | K26: 13 | L26: =24*(N26-M26+P26-O26) -> 0 | M26: ='Settings'!C8 -> 08:00 | N26: ='Settings'!D8 -> 12:00 | O26: ='Settings'!E8 -> 14:00 | P26: ='Settings'!F8 -> 18:00 | S26: 0 | T26: 0
A27: Tuesday | B27: 09/01/2024 | C27: 1 | D27: 1 | E27: 0 | F27: 0 | K27: 14 | L27: =24*(N27-M27+P27-O27) -> 0 | M27: ='Settings'!C9 -> 08:00 | N27: ='Settings'!D9 -> 12:00 | O27: ='Settings'!E9 -> 14:00 | P27: ='Settings'!F9 -> 18:00 | S27: 0 | T27: 0
A28: Wednesday | B28: 10/01/2024 | C28: 1 | D28: 1 | E28: 0 | F28: 0 | K28: 15 | L28: =24*(N28-M28+P28-O28) -> 0 | M28: ='Settings'!C10 -> 08:00 | N28: ='Settings'!D10 -> 12:00 | O28: ='Settings'!E10 -> 14:00 | P28: ='Settings'!F10 -> 18:00 | S28: 0 | T28: 0
A29: Thursday | B29: 11/01/2024 | C29: 1 | D29: 1 | E29: 0 | F29: 0 | K29: 16 | L29: =24*(N29-M29+P29-O29) -> 0 | M29: ='Settings'!C11 -> 08:00 | N29: ='Settings'!D11 -> 12:00 | O29: ='Settings'!E11 -> 14:00 | P29: ='Settings'!F11 -> 18:00 | S29: 0 | T29: 0
A30: Friday | B30: 12/01/2024 | C30: 1 | D30: 1 | E30: 0 | F30: 0 | K30: 17 | L30: =24*(N30-M30+P30-O30) -> 0 | M30: ='Settings'!C12 -> 08:00 | N30: ='Settings'!D12 -> 12:00 | O30: ='Settings'!E12 -> 14:00 | P30: ='Settings'!F12 -> 18:00 | S30: 0 | T30: 0
A31: Saturday | B31: 13/01/2024 | C31: 1 | D31: 0 | E31: 1 | F31: 0 | S31: 0 | T31: 0
A32: Sunday | B32: 14/01/2024 | C32: 1 | D32: 0 | E32: 1 | F32: 0 | S32: 0 | T32: 0
A33: Monday | B33: 15/01/2024 | C33: 1 | D33: 1 | E33: 0 | F33: 0 | K33: 18 | L33: =24*(N33-M33+P33-O33) -> 0 | M33: ='Settings'!C8 -> 08:00 | N33: ='Settings'!D8 -> 12:00 | O33: ='Settings'!E8 -> 14:00 | P33: ='Settings'!F8 -> 18:00 | S33: 0 | T33: 0
A34: Tuesday | B34: 16/01/2024 | C34: 1 | D34: 1 | E34: 0 | F34: 0 | K34: 19 | L34: =24*(N34-M34+P34-O34) -> 0 | M34: ='Settings'!C9 -> 08:00 | N34: ='Settings'!D9 -> 12:00 | O34: ='Settings'!E9 -> 14:00 | P34: ='Settings'!F9 -> 18:00 | S34: 0 | T34: 0
A35: Wednesday | B35: 17/01/2024 | C35: 1 | D35: 1 | E35: 0 | F35: 0 | K35: 20 | L35: =24*(N35-M35+P35-O35) -> 0 | M35: ='Settings'!C10 -> 08:00 | N35: ='Settings'!D10 -> 12:00 | O35: ='Settings'!E10 -> 14:00 | P35: ='Settings'!F10 -> 18:00 | S35: 0 | T35: 0
A36: Thursday | B36: 18/01/2024 | C36: 1 | D36: 1 | E36: 0 | F36: 0 | K36: 21 | L36: =24*(N36-M36+P36-O36) -> 0 | M36: ='Settings'!C11 -> 08:00 | N36: ='Settings'!D11 -> 12:00 | O36: ='Settings'!E11 -> 14:00 | P36: ='Settings'!F11 -> 18:00 | S36: 0 | T36: 0
A37: Friday | B37: 19/01/2024 | C37: 1 | D37: 1 | E37: 0 | F37: 0 | K37: 22 | L37: =24*(N37-M37+P37-O37) -> 0 | M37: ='Settings'!C12 -> 08:00 | N37: ='Settings'!D12 -> 12:00 | O37: ='Settings'!E12 -> 14:00 | P37: ='Settings'!F12 -> 18:00 | S37: 0 | T37: 0
A38: Saturday | B38: 20/01/2024 | C38: 1 | D38: 0 | E38: 1 | F38: 0 | S38: 0 | T38: 0
A39: Sunday | B39: 21/01/2024 | C39: 1 | D39: 0 | E39: 1 | F39: 0 | S39: 0 | T39: 0
A40: Monday | B40: 22/01/2024 | C40: 1 | D40: 1 | E40: 0 | F40: 0 | K40: 23 | L40: =24*(N40-M40+P40-O40) -> 0 | M40: ='Settings'!C8 -> 08:00 | N40: ='Settings'!D8 -> 12:00 | O40: ='Settings'!E8 -> 14:00 | P40: ='Settings'!F8 -> 18:00 | S40: 0 | T40: 0
A41: Tuesday | B41: 23/01/2024 | C41: 1 | D41: 1 | E41: 0 | F41: 0 | K41: 24 | L41: =24*(N41-M41+P41-O41) -> 0 | M41: ='Settings'!C9 -> 08:00 | N41: ='Settings'!D9 -> 12:00 | O41: ='Settings'!E9 -> 14:00 | P41: ='Settings'!F9 -> 18:00 | S41: 0 | T41: 0
A42: Wednesday | B42: 24/01/2024 | C42: 1 | D42: 1 | E42: 0 | F42: 0 | K42: 25 | L42: =24*(N42-M42+P42-O42) -> 0 | M42: ='Settings'!C10 -> 08:00 | N42: ='Settings'!D10 -> 12:00 | O42: ='Settings'!E10 -> 14:00 | P42: ='Settings'!F10 -> 18:00 | S42: 0 | T42: 0
A43: Thursday | B43: 25/01/2024 | C43: 1 | D43: 1 | E43: 0 | F43: 0 | K43: 26 | L43: =24*(N43-M43+P43-O43) -> 0 | M43: ='Settings'!C11 -> 08:00 | N43: ='Settings'!D11 -> 12:00 | O43: ='Settings'!E11 -> 14:00 | P43: ='Settings'!F11 -> 18:00 | S43: 0 | T43: 0
A44: Friday | B44: 26/01/2024 | C44: 1 | D44: 1 | E44: 0 | F44: 0 | K44: 27 | L44: =24*(N44-M44+P44-O44) -> 0 | M44: ='Settings'!C12 -> 08:00 | N44: ='Settings'!D12 -> 12:00 | O44: ='Settings'!E12 -> 14:00 | P44: ='Settings'!F12 -> 18:00 | S44: 0 | T44: 0
A45: Saturday | B45: 27/01/2024 | C45: 1 | D45: 0 | E45: 1 | F45: 0 | S45: 0 | T45: 0
A46: Sunday | B46: 28/01/2024 | C46: 1 | D46: 0 | E46: 1 | F46: 0 | S46: 0 | T46: 0
A47: Monday | B47: 29/01/2024 | C47: 1 | D47: 1 | E47: 0 | F47: 0 | K47: 28 | L47: =24*(N47-M47+P47-O47) -> 0 | M47: ='Settings'!C8 -> 08:00 | N47: ='Settings'!D8 -> 12:00 | O47: ='Settings'!E8 -> 14:00 | P47: ='Settings'!F8 -> 18:00 | S47: 0 | T47: 0
A48: Tuesday | B48: 30/01/2024 | C48: 1 | D48: 1 | E48: 0 | F48: 0 | K48: 29 | L48: =24*(N48-M48+P48-O48) -> 0 | M48: ='Settings'!C9 -> 08:00 | N48: ='Settings'!D9 -> 12:00 | O48: ='Settings'!E9 -> 14:00 | P48: ='Settings'!F9 -> 18:00 | S48: 0 | T48: 0
A49: Wednesday | B49: 31/01/2024 | C49: 1 | D49: 1 | E49: 0 | F49: 0 | K49: 30 | L49: =24*(N49-M49+P49-O49) -> 0 | M49: ='Settings'!C10 -> 08:00 | N49: ='Settings'!D10 -> 12:00 | O49: ='Settings'!E10 -> 14:00 | P49: ='Settings'!F10 -> 18:00 | S49: 0 | T49: 0
A50: Thursday | B50: 01/02/2024 | C50: 1 | D50: 1 | E50: 0 | F50: 0 | K50: 31 | L50: =24*(N50-M50+P50-O50) -> 0 | M50: ='Settings'!C11 -> 08:00 | N50: ='Settings'!D11 -> 12:00 | O50: ='Settings'!E11 -> 14:00 | P50: ='Settings'!F11 -> 18:00 | S50: 0 | T50: 0
A51: Friday | B51: 02/02/2024 | C51: 1 | D51: 1 | E51: 0 | F51: 0 | K51: 32 | L51: =24*(N51-M51+P51-O51) -> 0 | M51: ='Settings'!C12 -> 08:00 | N51: ='Settings'!D12 -> 12:00 | O51: ='Settings'!E12 -> 14:00 | P51: ='Settings'!F12 -> 18:00 | S51: 0 | T51: 0
A52: Saturday | B52: 03/02/2024 | C52: 1 | D52: 0 | E52: 1 | F52: 0 | S52: 0 | T52: 0
A53: Sunday | B53: 04/02/2024 | C53: 1 | D53: 0 | E53: 1 | F53: 0 | S53: 0 | T53: 0
A54: Monday | B54: 05/02/2024 | C54: 1 | D54: 1 | E54: 0 | F54: 0 | K54: 33 | L54: =24*(N54-M54+P54-O54) -> 0 | M54: ='Settings'!C8 -> 08:00 | N54: ='Settings'!D8 -> 12:00 | O54: ='Settings'!E8 -> 14:00 | P54: ='Settings'!F8 -> 18:00 | S54: 0 | T54: 0
A55: Tuesday | B55: 06/02/2024 | C55: 1 | D55: 1 | E55: 0 | F55: 0 | K55: 34 | L55: =24*(N55-M55+P55-O55) -> 0 | M55: ='Settings'!C9 -> 08:00 | N55: ='Settings'!D9 -> 12:00 | O55: ='Settings'!E9 -> 14:00 | P55: ='Settings'!F9 -> 18:00 | S55: 0 | T55: 0
A56: Wednesday | B56: 07/02/2024 | C56: 1 | D56: 1 | E56: 0 | F56: 0 | K56: 35 | L56: =24*(N56-M56+P56-O56) -> 0 | M56: ='Settings'!C10 -> 08:00 | N56: ='Settings'!D10 -> 12:00 | O56: ='Settings'!E10 -> 14:00 | P56: ='Settings'!F10 -> 18:00 | S56: 0 | T56: 0
A57: Thursday | B57: 08/02/2024 | C57: 1 | D57: 0 | E57: 0 | F57: 1 | G57: Preseren's Day | S57: 0 | T57: 0
A58: Friday | B58: 09/02/2024 | C58: 1 | D58: 1 | E58: 0 | F58: 0 | K58: 36 | L58: =24*(N58-M58+P58-O58) -> 0 | M58: ='Settings'!C12 -> 08:00 | N58: ='Settings'!D12 -> 12:00 | O58: ='Settings'!E12 -> 14:00 | P58: ='Settings'!F12 -> 18:00 | S58: 0 | T58: 0
A59: Saturday | B59: 10/02/2024 | C59: 1 | D59: 0 | E59: 1 | F59: 0 | S59: 0 | T59: 0
A60: Sunday | B60: 11/02/2024 | C60: 1 | D60: 0 | E60: 1 | F60: 0 | S60: 0 | T60: 0
A61: Monday | B61: 12/02/2024 | C61: 1 | D61: 1 | E61: 0 | F61: 0 | K61: 37 | L61: =24*(N61-M61+P61-O61) -> 0 | M61: ='Settings'!C8 -> 08:00 | N61: ='Settings'!D8 -> 12:00 | O61: ='Settings'!E8 -> 14:00 | P61: ='Settings'!F8 -> 18:00 | S61: 0 | T61: 0
A62: Tuesday | B62: 13/02/2024 | C62: 1 | D62: 1 | E62: 0 | F62: 0 | K62: 38 | L62: =24*(N62-M62+P62-O62) -> 0 | M62: ='Settings'!C9 -> 08:00 | N62: ='Settings'!D9 -> 12:00 | O62: ='Settings'!E9 -> 14:00 | P62: ='Settings'!F9 -> 18:00 | S62: 0 | T62: 0
A63: Wednesday | B63: 14/02/2024 | C63: 1 | D63: 1 | E63: 0 | F63: 0 | K63: 39 | L63: =24*(N63-M63+P63-O63) -> 0 | M63: ='Settings'!C10 -> 08:00 | N63: ='Settings'!D10 -> 12:00 | O63: ='Settings'!E10 -> 14:00 | P63: ='Settings'!F10 -> 18:00 | S63: 0 | T63: 0
A64: Thursday | B64: 15/02/2024 | C64: 1 | D64: 1 | E64: 0 | F64: 0 | K64: 40 | L64: =24*(N64-M64+P64-O64) -> 0 | M64: ='Settings'!C11 -> 08:00 | N64: ='Settings'!D11 -> 12:00 | O64: ='Settings'!E11 -> 14:00 | P64: ='Settings'!F11 -> 18:00 | S64: 0 | T64: 0
A65: Friday | B65: 16/02/2024 | C65: 1 | D65: 1 | E65: 0 | F65: 0 | K65: 41 | L65: =24*(N65-M65+P65-O65) -> 0 | M65: ='Settings'!C12 -> 08:00 | N65: ='Settings'!D12 -> 12:00 | O65: ='Settings'!E12 -> 14:00 | P65: ='Settings'!F12 -> 18:00 | S65: 0 | T65: 0
A66: Saturday | B66: 17/02/2024 | C66: 1 | D66: 0 | E66: 1 | F66: 0 | S66: 0 | T66: 0
A67: Sunday | B67: 18/02/2024 | C67: 1 | D67: 0 | E67: 1 | F67: 0 | S67: 0 | T67: 0
A68: Monday | B68: 19/02/2024 | C68: 1 | D68: 1 | E68: 0 | F68: 0 | K68: 42 | L68: =24*(N68-M68+P68-O68) -> 0 | M68: ='Settings'!C8 -> 08:00 | N68: ='Settings'!D8 -> 12:00 | O68: ='Settings'!E8 -> 14:00 | P68: ='Settings'!F8 -> 18:00 | S68: 0 | T68: 0
A69: Tuesday | B69: 20/02/2024 | C69: 1 | D69: 1 | E69: 0 | F69: 0 | K69: 43 | L69: =24*(N69-M69+P69-O69) -> 0 | M69: ='Settings'!C9 -> 08:00 | N69: ='Settings'!D9 -> 12:00 | O69: ='Settings'!E9 -> 14:00 | P69: ='Settings'!F9 -> 18:00 | S69: 0 | T69: 0
A70: Wednesday | B70: 21/02/2024 | C70: 1 | D70: 1 | E70: 0 | F70: 0 | K70: 44 | L70: =24*(N70-M70+P70-O70) -> 0 | M70: ='Settings'!C10 -> 08:00 | N70: ='Settings'!D10 -> 12:00 | O70: ='Settings'!E10 -> 14:00 | P70: ='Settings'!F10 -> 18:00 | S70: 0 | T70: 0
A71: Thursday | B71: 22/02/2024 | C71: 1 | D71: 1 | E71: 0 | F71: 0 | K71: 45 | L71: =24*(N71-M71+P71-O71) -> 0 | M71: ='Settings'!C11 -> 08:00 | N71: ='Settings'!D11 -> 12:00 | O71: ='Settings'!E11 -> 14:00 | P71: ='Settings'!F11 -> 18:00 | S71: 0 | T71: 0
A72: Friday | B72: 23/02/2024 | C72: 1 | D72: 1 | E72: 0 | F72: 0 | K72: 46 | L72: =24*(N72-M72+P72-O72) -> 0 | M72: ='Settings'!C12 -> 08:00 | N72: ='Settings'!D12 -> 12:00 | O72: ='Settings'!E12 -> 14:00 | P72: ='Settings'!F12 -> 18:00 | S72: 0 | T72: 0
A73: Saturday | B73: 24/02/2024 | C73: 1 | D73: 0 | E73: 1 | F73: 0 | S73: 0 | T73: 0
A74: Sunday | B74: 25/02/2024 | C74: 1 | D74: 0 | E74: 1 | F74: 0 | S74: 0 | T74: 0
A75: Monday | B75: 26/02/2024 | C75: 1 | D75: 1 | E75: 0 | F75: 0 | K75: 47 | L75: =24*(N75-M75+P75-O75) -> 0 | M75: ='Settings'!C8 -> 08:00 | N75: ='Settings'!D8 -> 12:00 | O75: ='Settings'!E8 -> 14:00 | P75: ='Settings'!F8 -> 18:00 | S75: 0 | T75: 0
A76: Tuesday | B76: 27/02/2024 | C76: 1 | D76: 1 | E76: 0 | F76: 0 | K76: 48 | L76: =24*(N76-M76+P76-O76) -> 0 | M76: ='Settings'!C9 -> 08:00 | N76: ='Settings'!D9 -> 12:00 | O76: ='Settings'!E9 -> 14:00 | P76: ='Settings'!F9 -> 18:00 | S76: 0 | T76: 0
A77: Wednesday | B77: 28/02/2024 | C77: 1 | D77: 1 | E77: 0 | F77: 0 | K77: 49 | L77: =24*(N77-M77+P77-O77) -> 0 | M77: ='Settings'!C10 -> 08:00 | N77: ='Settings'!D10 -> 12:00 | O77: ='Settings'!E10 -> 14:00 | P77: ='Settings'!F10 -> 18:00 | S77: 0 | T77: 0
A78: Thursday | B78: 29/02/2024 | C78: 1 | D78: 1 | E78: 0 | F78: 0 | K78: 50 | L78: =24*(N78-M78+P78-O78) -> 0 | M78: ='Settings'!C11 -> 08:00 | N78: ='Settings'!D11 -> 12:00 | O78: ='Settings'!E11 -> 14:00 | P78: ='Settings'!F11 -> 18:00 | S78: 0 | T78: 0
A79: Friday | B79: 01/03/2024 | C79: 1 | D79: 1 | E79: 0 | F79: 0 | K79: 51 | L79: =24*(N79-M79+P79-O79) -> 0 | M79: ='Settings'!C12 -> 08:00 | N79: ='Settings'!D12 -> 12:00 | O79: ='Settings'!E12 -> 14:00 | P79: ='Settings'!F12 -> 18:00 | S79: 0 | T79: 0
A80: Saturday | B80: 02/03/2024 | C80: 1 | D80: 0 | E80: 1 | F80: 0 | S80: 0 | T80: 0
A81: Sunday | B81: 03/03/2024 | C81: 1 | D81: 0 | E81: 1 | F81: 0 | S81: 0 | T81: 0
A82: Monday | B82: 04/03/2024 | C82: 1 | D82: 1 | E82: 0 | F82: 0 | K82: 52 | L82: =24*(N82-M82+P82-O82) -> 0 | M82: ='Settings'!C8 -> 08:00 | N82: ='Settings'!D8 -> 12:00 | O82: ='Settings'!E8 -> 14:00 | P82: ='Settings'!F8 -> 18:00 | S82: 0 | T82: 0
A83: Tuesday | B83: 05/03/2024 | C83: 1 | D83: 1 | E83: 0 | F83: 0 | K83: 53 | L83: =24*(N83-M83+P83-O83) -> 0 | M83: ='Settings'!C9 -> 08:00 | N83: ='Settings'!D9 -> 12:00 | O83: ='Settings'!E9 -> 14:00 | P83: ='Settings'!F9 -> 18:00 | S83: 0 | T83: 0
A84: Wednesday | B84: 06/03/2024 | C84: 1 | D84: 1 | E84: 0 | F84: 0 | K84: 54 | L84: =24*(N84-M84+P84-O84) -> 0 | M84: ='Settings'!C10 -> 08:00 | N84: ='Settings'!D10 -> 12:00 | O84: ='Settings'!E10 -> 14:00 | P84: ='Settings'!F10 -> 18:00 | S84: 0 | T84: 0
A85: Thursday | B85: 07/03/2024 | C85: 1 | D85: 1 | E85: 0 | F85: 0 | K85: 55 | L85: =24*(N85-M85+P85-O85) -> 0 | M85: ='Settings'!C11 -> 08:00 | N85: ='Settings'!D11 -> 12:00 | O85: ='Settings'!E11 -> 14:00 | P85: ='Settings'!F11 -> 18:00 | S85: 0 | T85: 0
A86: Friday | B86: 08/03/2024 | C86: 1 | D86: 1 | E86: 0 | F86: 0 | K86: 56 | L86: =24*(N86-M86+P86-O86) -> 0 | M86: ='Settings'!C12 -> 08:00 | N86: ='Settings'!D12 -> 12:00 | O86: ='Settings'!E12 -> 14:00 | P86: ='Settings'!F12 -> 18:00 | S86: 0 | T86: 0
A87: Saturday | B87: 09/03/2024 | C87: 1 | D87: 0 | E87: 1 | F87: 0 | S87: 0 | T87: 0
A88: Sunday | B88: 10/03/2024 | C88: 1 | D88: 0 | E88: 1 | F88: 0 | S88: 0 | T88: 0
A89: Monday | B89: 11/03/2024 | C89: 1 | D89: 1 | E89: 0 | F89: 0 | K89: 57 | L89: =24*(N89-M89+P89-O89) -> 0 | M89: ='Settings'!C8 -> 08:00 | N89: ='Settings'!D8 -> 12:00 | O89: ='Settings'!E8 -> 14:00 | P89: ='Settings'!F8 -> 18:00 | S89: 0 | T89: 0
A90: Tuesday | B90: 12/03/2024 | C90: 1 | D90: 1 | E90: 0 | F90: 0 | K90: 58 | L90: =24*(N90-M90+P90-O90) -> 0 | M90: ='Settings'!C9 -> 08:00 | N90: ='Settings'!D9 -> 12:00 | O90: ='Settings'!E9 -> 14:00 | P90: ='Settings'!F9 -> 18:00 | S90: 0 | T90: 0
A91: Wednesday | B91: 13/03/2024 | C91: 1 | D91: 1 | E91: 0 | F91: 0 | K91: 59 | L91: =24*(N91-M91+P91-O91) -> 0 | M91: ='Settings'!C10 -> 08:00 | N91: ='Settings'!D10 -> 12:00 | O91: ='Settings'!E10 -> 14:00 | P91: ='Settings'!F10 -> 18:00 | S91: 0 | T91: 0
A92: Thursday | B92: 14/03/2024 | C92: 1 | D92: 1 | E92: 0 | F92: 0 | K92: 60 | L92: =24*(N92-M92+P92-O92) -> 0 | M92: ='Settings'!C11 -> 08:00 | N92: ='Settings'!D11 -> 12:00 | O92: ='Settings'!E11 -> 14:00 | P92: ='Settings'!F11 -> 18:00 | S92: 0 | T92: 0
A93: Friday | B93: 15/03/2024 | C93: 1 | D93: 1 | E93: 0 | F93: 0 | K93: 61 | L93: =24*(N93-M93+P93-O93) -> 0 | M93: ='Settings'!C12 -> 08:00 | N93: ='Settings'!D12 -> 12:00 | O93: ='Settings'!E12 -> 14:00 | P93: ='Settings'!F12 -> 18:00 | S93: 0 | T93: 0
A94: Saturday | B94: 16/03/2024 | C94: 1 | D94: 0 | E94: 1 | F94: 0 | S94: 0 | T94: 0
A95: Sunday | B95: 17/03/2024 | C95: 1 | D95: 0 | E95: 1 | F95: 0 | S95: 0 | T95: 0
A96: Monday | B96: 18/03/2024 | C96: 1 | D96: 1 | E96: 0 | F96: 0 | K96: 62 | L96: =24*(N96-M96+P96-O96) -> 0 | M96: ='Settings'!C8 -> 08:00 | N96: ='Settings'!D8 -> 12:00 | O96: ='Settings'!E8 -> 14:00 | P96: ='Settings'!F8 -> 18:00 | S96: 0 | T96: 0
A97: Tuesday | B97: 19/03/2024 | C97: 1 | D97: 1 | E97: 0 | F97: 0 | K97: 63 | L97: =24*(N97-M97+P97-O97) -> 0 | M97: ='Settings'!C9 -> 08:00 | N97: ='Settings'!D9 -> 12:00 | O97: ='Settings'!E9 -> 14:00 | P97: ='Settings'!F9 -> 18:00 | S97: 0 | T97: 0
A98: Wednesday | B98: 20/03/2024 | C98: 1 | D98: 1 | E98: 0 | F98: 0 | K98: 64 | L98: =24*(N98-M98+P98-O98) -> 0 | M98: ='Settings'!C10 -> 08:00 | N98: ='Settings'!D10 -> 12:00 | O98: ='Settings'!E10 -> 14:00 | P98: ='Settings'!F10 -> 18:00 | S98: 0 | T98: 0
A99: Thursday | B99: 21/03/2024 | C99: 1 | D99: 1 | E99: 0 | F99: 0 | K99: 65 | L99: =24*(N99-M99+P99-O99) -> 0 | M99: ='Settings'!C11 -> 08:00 | N99: ='Settings'!D11 -> 12:00 | O99: ='Settings'!E11 -> 14:00 | P99: ='Settings'!F11 -> 18:00 | S99: 0 | T99: 0
A100: Friday | B100: 22/03/2024 | C100: 1 | D100: 1 | E100: 0 | F100: 0 | K100: 66 | L100: =24*(N100-M100+P100-O100) -> 0 | M100: ='Settings'!C12 -> 08:00 | N100: ='Settings'!D12 -> 12:00 | O100: ='Settings'!E12 -> 14:00 | P100: ='Settings'!F12 -> 18:00 | S100: 0 | T100: 0
...

Sheet Weeks
A1: Week | B1: Days | C1: Working days | D1: Weekend days | E1: Public holidays | F1: Custom dates | G1: Work hours
A2: 15/12/2023 → 17/12/2023 | B2: =SUM(Days!C2:C4) -> 3 | C2: =SUM(Days!D2:D4) -> 1 | D2: =SUM(Days!E2:E4) -> 2 | E2: =SUM(Days!F2:F4) -> 0 | F2: =SUM(Days!H2:H4) -> 0 | G2: =SUM(Days!L2:L4) -> 0
A3: 18/12/2023 → 24/12/2023 | B3: =SUM(Days!C5:C11) -> 7 | C3: =SUM(Days!D5:D11) -> 5 | D3: =SUM(Days!E5:E11) -> 2 | E3: =SUM(Days!F5:F11) -> 0 | F3: =SUM(Days!H5:H11) -> 0 | G3: =SUM(Days!L5:L11) -> 0
A4: 25/12/2023 → 31/12/2023 | B4: =SUM(Days!C12:C18) -> 7 | C4: =SUM(Days!D12:D18) -> 3 | D4: =SUM(Days!E12:E18) -> 2 | E4: =SUM(Days!F12:F18) -> 2 | F4: =SUM(Days!H12:H18) -> 0 | G4: =SUM(Days!L12:L18) -> 0
A5: 01/01/2024 → 07/01/2024 | B5: =SUM(Days!C19:C25) -> 7 | C5: =SUM(Days!D19:D25) -> 3 | D5: =SUM(Days!E19:E25) -> 2 | E5: =SUM(Days!F19:F25) -> 2 | F5: =SUM(Days!H19:H25) -> 0 | G5: =SUM(Days!L19:L25) -> 0
A6: 08/01/2024 → 14/01/2024 | B6: =SUM(Days!C26:C32) -> 7 | C6: =SUM(Days!D26:D32) -> 5 | D6: =SUM(Days!E26:E32) -> 2 | E6: =SUM(Days!F26:F32) -> 0 | F6: =SUM(Days!H26:H32) -> 0 | G6: =SUM(Days!L26:L32) -> 0
A7: 15/01/2024 → 21/01/2024 | B7: =SUM(Days!C33:C39) -> 7 | C7: =SUM(Days!D33:D39) -> 5 | D7: =SUM(Days!E33:E39) -> 2 | E7: =SUM(Days!F33:F39) -> 0 | F7: =SUM(Days!H33:H39) -> 0 | G7: =SUM(Days!L33:L39) -> 0
A8: 22/01/2024 → 28/01/2024 | B8: =SUM(Days!C40:C46) -> 7 | C8: =SUM(Days!D40:D46) -> 5 | D8: =SUM(Days!E40:E46) -> 2 | E8: =SUM(Days!F40:F46) -> 0 | F8: =SUM(Days!H40:H46) -> 0 | G8: =SUM(Days!L40:L46) -> 0
A9: 29/01/2024 → 04/02/2024 | B9: =SUM(Days!C47:C53) -> 7 | C9: =SUM(Days!D47:D53) -> 5 | D9: =SUM(Days!E47:E53) -> 2 | E9: =SUM(Days!F47:F53) -> 0 | F9: =SUM(Days!H47:H53) -> 0 | G9: =SUM(Days!L47:L53) -> 0
A10: 05/02/2024 → 11/02/2024 | B10: =SUM(Days!C54:C60) -> 7 | C10: =SUM(Days!D54:D60) -> 4 | D10: =SUM(Days!E54:E60) -> 2 | E10: =SUM(Days!F54:F60) -> 1 | F10: =SUM(Days!H54:H60) -> 0 | G10: =SUM(Days!L54:L60) -> 0
A11: 12/02/2024 → 18/02/2024 | B11: =SUM(Days!C61:C67) -> 7 | C11: =SUM(Days!D61:D67) -> 5 | D11: =SUM(Days!E61:E67) -> 2 | E11: =SUM(Days!F61:F67) -> 0 | F11: =SUM(Days!H61:H67) -> 0 | G11: =SUM(Days!L61:L67) -> 0
A12: 19/02/2024 → 25/02/2024 | B12: =SUM(Days!C68:C74) -> 7 | C12: =SUM(Days!D68:D74) -> 5 | D12: =SUM(Days!E68:E74) -> 2 | E12: =SUM(Days!F68:F74) -> 0 | F12: =SUM(Days!H68:H74) -> 0 | G12: =SUM(Days!L68:L74) -> 0
A13: 26/02/2024 → 03/03/2024 | B13: =SUM(Days!C75:C81) -> 7 | C13: =SUM(Days!D75:D81) -> 5 | D13: =SUM(Days!E75:E81) -> 2 | E13: =SUM(Days!F75:F81) -> 0 | F13: =SUM(Days!H75:H81) -> 0 | G13: =SUM(Days!L75:L81) -> 0
A14: 04/03/2024 → 10/03/2024 | B14: =SUM(Days!C82:C88) -> 7 | C14: =SUM(Days!D82:D88) -> 5 | D14: =SUM(Days!E82:E88) -> 2 | E14: =SUM(Days!F82:F88) -> 0 | F14: =SUM(Days!H82:H88) -> 0 | G14: =SUM(Days!L82:L88) -> 0
A15: 11/03/2024 → 17/03/2024 | B15: =SUM(Days!C89:C95) -> 7 | C15: =SUM(Days!D89:D95) -> 5 | D15: =SUM(Days!E89:E95) -> 2 | E15: =SUM(Days!F89:F95) -> 0 | F15: =SUM(Days!H89:H95) -> 0 | G15: =SUM(Days!L89:L95) -> 0
A16: 18/03/2024 → 24/03/2024 | B16: =SUM(Days!C96:C102) -> 7 | C16: =SUM(Days!D96:D102) -> 5 | D16: =SUM(Days!E96:E102) -> 2 | E16: =SUM(Days!F96:F102) -> 0 | F16: =SUM(Days!H96:H102) -> 0 | G16: =SUM(Days!L96:L102) -> 0
A17: 25/03/2024 → 31/03/2024 | B17: =SUM(Days!C103:C109) -> 7 | C17: =SUM(Days!D103:D109) -> 5 | D17: =SUM(Days!E103:E109) -> 2 | E17: =SUM(Days!F103:F109) -> 1 | F17: =SUM(Days!H103:H109) -> 0 | G17: =SUM(Days!L103:L109) -> 0
A18: 01/04/2024 → 07/04/2024 | B18: =SUM(Days!C110:C116) -> 7 | C18: =SUM(Days!D110:D116) -> 4 | D18: =SUM(Days!E110:E116) -> 2 | E18: =SUM(Days!F110:F116) -> 1 | F18: =SUM(Days!H110:H116) -> 0 | G18: =SUM(Days!L110:L116) -> 0
A19: 08/04/2024 → 14/04/2024 | B19: =SUM(Days!C117:C123) -> 7 | C19: =SUM(Days!D117:D123) -> 5 | D19: =SUM(Days!E117:E123) -> 2 | E19: =SUM(Days!F117:F123) -> 0 | F19: =SUM(Days!H117:H123) -> 0 | G19: =SUM(Days!L117:L123) -> 0
A20: 15/04/2024 → 21/04/2024 | B20: =SUM(Days!C124:C130) -> 7 | C20: =SUM(Days!D124:D130) -> 5 | D20: =SUM(Days!E124:E130) -> 2 | E20: =SUM(Days!F124:F130) -> 0 | F20: =SUM(Days!H124:H130) -> 0 | G20: =SUM(Days!L124:L130) -> 0
A21: 22/04/2024 → 28/04/2024 | B21: =SUM(Days!C131:C137) -> 7 | C21: =SUM(Days!D131:D137) -> 5 | D21: =SUM(Days!E131:E137) -> 2 | E21: =SUM(Days!F131:F137) -> 1 | F21: =SUM(Days!H131:H137) -> 0 | G21: =SUM(Days!L131:L137) -> 0
A22: 29/04/2024 → 30/04/2024 | B22: =SUM(Days!C138:C139) -> 2 | C22: =SUM(Days!D138:D139) -> 2 | D22: =SUM(Days!E138:E139) -> 0 | E22: =SUM(Days!F138:F139) -> 0 | F22: =SUM(Days!H138:H139) -> 0 | G22: =SUM(Days!L138:L139) -> 0
A23: Total | B23: =SUM(B2:B22) -> 138 | C23: =SUM(C2:C22) -> 92 | D23: =SUM(D2:D22) -> 40 | E23: =SUM(E2:E22) -> 8 | F23: =SUM(F2:F22) -> 0 | G23: =SUM(G2:G22) -> 0

Sheet Months
A1: Month | B1: Days | C1: Working days | D1: Weekend days | E1: Public holidays | F1: Custom dates | G1: Work hours
A2: December 2023 | B2: =SUM(Days!C2:C18) -> 17 | C2: =SUM(Days!D2:D18) -> 9 | D2: =SUM(Days!E2:E18) -> 6 | E2: =SUM(Days!F2:F18) -> 2 | F2: =SUM(Days!H2:H18) -> 0 | G2: =SUM(Days!L2:L18) -> 0
A3: January 2024 | B3: =SUM(Days!C19:C49) -> 31 | C3: =SUM(Days!D19:D49) -> 21 | D3: =SUM(Days!E19:E49) -> 8 | E3: =SUM(Days!F19:F49) -> 2 | F3: =SUM(Days!H19:H49) -> 0 | G3: =SUM(Days!L19:L49) -> 0
A4: February 2024 | B4: =SUM(Days!C50:C78) -> 29 | C4: =SUM(Days!D50:D78) -> 20 | D4: =SUM(Days!E50:E78) -> 8 | E4: =SUM(Days!F50:F78) -> 1 | F4: =SUM(Days!H50:H78) -> 0 | G4: =SUM(Days!L50:L78) -> 0
A5: March 2024 | B5: =SUM(Days!C79:C109) -> 31 | C5: =SUM(Days!D79:D109) -> 21 | D5: =SUM(Days!E79:E109) -> 10 | E5: =SUM(Days!F79:F109) -> 1 | F5: =SUM(Days!H79:H109) -> 0 | G5: =SUM(Days!L79:L109) -> 0
A6: April 2024 | B6: =SUM(Days!C110:C139) -> 30 | C6: =SUM(Days!D110:D139) -> 21 | D6: =SUM(Days!E110:E139) -> 8 | E6: =SUM(Days!F110:F139) -> 2 | F6: =SUM(Days!H110:H139) -> 0 | G6: =SUM(Days!L110:L139) -> 0
A7: Total | B7: =SUM(B2:B6) -> 138 | C7: =SUM(C2:C6) -> 92 | D7: =SUM(D2:D6) -> 40 | E7: =SUM(E2:E6) -> 8 | F7: =SUM(F2:F6) -> 0 | G7: =SUM(G2:G6) -> 0

Sheet Years
A1: Year | B1: Days | C1: Working days | D1: Weekend days | E1: Public holidays | F1: Custom dates | G1: Work hours
A2: 2023 | B2: =SUM(Days!C2:C18) -> 17 | C2: =SUM(Days!D2:D18) -> 9 | D2: =SUM(Days!E2:E18) -> 6 | E2: =SUM(Days!F2:F18) -> 2 | F2: =SUM(Days!H2:H18) -> 0 | G2: =SUM(Days!L2:L18) -> 0
A3: 2024 | B3: =SUM(Days!C19:C139) -> 121 | C3: =SUM(Days!D19:D139) -> 83 | D3: =SUM(Days!E19:E139) -> 34 | E3: =SUM(Days!F19:F139) -> 6 | F3: =SUM(Days!H19:H139) -> 0 | G3: =SUM(Days!L19:L139) -> 0
A4: Total | B4: =SUM(B2:B3) -> 138 | C4: =SUM(C2:C3) -> 92 | D4: =SUM(D2:D3) -> 40 | E4: =SUM(E2:E3) -> 8 | F4: =SUM(F2:F3) -> 0 | G4: =SUM(G2:G3) -> 0
